BEGIN:VCALENDAR
VERSION:2.0
PRODID:spatie/icalendar-generator
DESCRIPTION:Events from physicsandbeyond
X-WR-CALDESC:Events from physicsandbeyond
REFRESH-INTERVAL;VALUE=DURATION:PT1440M
X-PUBLISHED-TTL:PT1440M
BEGIN:VTIMEZONE
TZID:Etc/GMT+0
BEGIN:STANDARD
DTSTART:20250725T110000Z
TZOFFSETFROM:+0000
TZOFFSETTO:+0000
END:STANDARD
END:VTIMEZONE
BEGIN:VTIMEZONE
TZID:UTC
BEGIN:STANDARD
DTSTART:20250724T234423Z
TZOFFSETFROM:+0000
TZOFFSETTO:+0000
END:STANDARD
END:VTIMEZONE
BEGIN:VEVENT
UID:202-190
DTSTAMP:20260420T234423Z
SUMMARY:TITLE TBA QS Talk | Snir Gazit
LOCATION:Office Building West / Ground Floor / Heinzel Seminar Room ISTA  K
 losterneuburg
ORGANIZER;CN=Stephanie Dolot:MAILTO:Stephanie.Dolot@ist.ac.at
DTSTART;TZID=Etc/GMT+0:20260421T110000
DTEND;TZID=Etc/GMT+0:20260421T120000
X-ALT-DESC;FMTTYPE=TEXT/HTML:Host: Maksym Serbyn Abstract: TBA
CATEGORIES:QUANTUM Seminar
URL;VALUE=URI:https://physicsandbeyond.pages.ist.ac.at/?mc-events=title-tba
 -qs-talk-snir-gazit
METHOD:PUBLISH
END:VEVENT
END:VCALENDAR